BEGIN:VCALENDAR
VERSION:2.0
PRODID:-//Be The Change Yoga - ECPv6.15.20//NONSGML v1.0//EN
CALSCALE:GREGORIAN
METHOD:PUBLISH
X-ORIGINAL-URL:https://bethechangeyoga.com
X-WR-CALDESC:Events for Be The Change Yoga
REFRESH-INTERVAL;VALUE=DURATION:PT1H
X-Robots-Tag:noindex
X-PUBLISHED-TTL:PT1H
BEGIN:VTIMEZONE
TZID:America/Los_Angeles
BEGIN:DAYLIGHT
TZOFFSETFROM:-0800
TZOFFSETTO:-0700
TZNAME:PDT
DTSTART:20210314T100000
END:DAYLIGHT
BEGIN:STANDARD
TZOFFSETFROM:-0700
TZOFFSETTO:-0800
TZNAME:PST
DTSTART:20211107T090000
END:STANDARD
BEGIN:DAYLIGHT
TZOFFSETFROM:-0800
TZOFFSETTO:-0700
TZNAME:PDT
DTSTART:20220313T100000
END:DAYLIGHT
BEGIN:STANDARD
TZOFFSETFROM:-0700
TZOFFSETTO:-0800
TZNAME:PST
DTSTART:20221106T090000
END:STANDARD
BEGIN:DAYLIGHT
TZOFFSETFROM:-0800
TZOFFSETTO:-0700
TZNAME:PDT
DTSTART:20230312T100000
END:DAYLIGHT
BEGIN:STANDARD
TZOFFSETFROM:-0700
TZOFFSETTO:-0800
TZNAME:PST
DTSTART:20231105T090000
END:STANDARD
END:VTIMEZONE
BEGIN:VEVENT
DTSTART;TZID=America/Los_Angeles:20220730T130000
DTEND;TZID=America/Los_Angeles:20220730T150000
DTSTAMP:20260425T062837
CREATED:20220526T170620Z
LAST-MODIFIED:20220527T143115Z
UID:10000389-1659186000-1659193200@bethechangeyoga.com
SUMMARY:7/30 Smooth Shoulder Movement Workshop
DESCRIPTION:Workshop Overview\n			\n				\n				\n				\n				\n				If your shoulders ever crackle\, pop\, or just occasionally get sore\, this workshop is designed to teach you how to intelligently realign your movements to be fully mobile and pain free. We will stabilize\, strengthen\, and open the body’s most mobile joints as you dive deep into shoulder self-care. \nThis workshop is open to students of all ages\, abilities\, and health conditions. \n			\n			\n				\n				\n				\n				\n			\n				\n				\n			\n				\n				\n				\n				\n				\n				\n				\n				\n				\n				\n				\n				\n				\n				\n				\n				\n				\n				\n			\n			\n				\n				\n				\n				\n				\n				\n				\n				\n				\n				\n			\n			\n				\n				\n				\n				\n				\n				\n				\n				\n				\n				\n			\n			\n				\n				\n				\n				\n			\n				\n				\n			\n				\n				\n				\n				\n				\n				\n				\n				\n				\n				\n				\n				\n				\n				\n				\n				\n				\n				Course Details\n			\n				\n				\n				\n				\n				Expect to: \n \n\nDeconstruct the relationship between bone structure and range of motion\nAssess your personal shoulder movements\nLearn how to stabilize the shoulder with exercises that may alleviate pops and clicks over time\nOpen the entire shoulder girdle with various stretches and easy\, at home props\nStrengthen the shoulders with some common and not-so-common asana (poses)\nSoothe the shoulders with self-massage you can take home {Yoga Tune Up Therapy Balls)\n\n \nIntegrated easeful movement into your life will let you feel smooth off the mat.\nPricing:\n\n$40 pre-registration (use code PREREG10)\n$50 day of event\n$12 Set of Yoga Tune Up Therapy Balls (available in-studio at check-in)\n\nDate:\n\nSaturday\, July 30th 1:00 – 3:00 pm PST\nIn-studio + Zoom options\nSpace Limited\n\n			\n			\n				\n				\n				\n				\n			\n				\n				\n			\n				\n				\n				\n				\n				\n				\n				\n				\n				\n				\n				\n				\n				\n				Click To Register In Studio\n			\n			\n				\n				\n				\n				\n				\n				Click To Register Livestream\n			\n			\n				\n				\n				\n				\n			\n				\n				\n			\n				\n				\n				\n				\n				\n				\n				\n				\n				\n				\n				\n				\n				\n				\n				\n				\n				\n				\n			\n			\n				\n				\n				\n				\n				\n				\n				\n				\n				\n				\n					\n					\n						Amanda Shepard\, RYT500\n						Amanda has been practicing yoga for 25 years and teaching for the last ten. Self-care is as important to her as movement. In addition to being a RYT\, she guides myofascial release using Yoga Tune Up ® therapy balls. Amanda offers alignment from her palpable interest in functional anatomy. She also enjoys deep dives into yogic philosophy and Sanskrit language. Amanda has done in depth philosophy course work with her mentor\, Erika Burkhalter. Practice with Amanda incorporates many styles of asana: ashtanga\, flow\, yin\, and restoratives. Asana choices are deliberate with options offered to keep everyone in the room\, or zoom\, connected to breath. Light chanting\, philosophy\, and the occasional “aha” moment make into the room. Amanda has mentored several teachers in training at various Orange County\, CA yoga studios and has been a guest teacher trainer in 200-hour RYT programs. Amanda loves to awaken an understanding of movement that allows students to investigate deeper into themselves. “Yoga to you” is her motto. Off the mat\, Amanda is at the beach as often as possible. She is mom to a human teenager and canine tween. Certifications: Yoga Alliance 200 Yoga Tune Up ®\, Level 1
URL:https://bethechangeyoga.com/event/7-30-smooth-shoulder-movement-workshop/
LOCATION:Be The Change Yoga\, 14988 Sand Canyon Ave\, Studio 5\, Irvine\, CA\, 92618\, United States
CATEGORIES:Workshops
ATTACH;FMTTYPE=image/png:https://bethechangeyoga.com/wp-content/uploads/2022/05/Screen-Shot-2022-05-26-at-10.05.37-AM.png
ORGANIZER;CN="Be The Change Yoga Staff":MAILTO:hello@bethechangeyoga.com
END:VEVENT
END:VCALENDAR